BEGIN:VCALENDAR
VERSION:2.0
PRODID:-//eventon.com NONSGML v1.0//EN
CALSCALE:GREGORIAN
METHOD:PUBLISH
BEGIN:VEVENT
UID:69e8a63de0d06
DTSTAMP:20260422T104309
DTSTART:20260519T090000Z
DTEND:20260519T100000Z
TZID:Europe/Berlin
LOCATION:https://us02web.zoom.us/j/88174707299
SUMMARY:Zu Tisch bei …
DESCRIPTION: \nhttps://kultich-mentoring.de/Seminar/zu-tisch-bei-5/var/event_access
URL:https://kultich-mentoring.de/Seminar/zu-tisch-bei-5/var/event_access
END:VEVENT
END:VCALENDAR